BEGIN:VCALENDAR
VERSION:2.0
PRODID:-//Academy of Management  - ECPv6.15.17.1//NONSGML v1.0//EN
CALSCALE:GREGORIAN
METHOD:PUBLISH
X-ORIGINAL-URL:https://www.aom.org
X-WR-CALDESC:Events for Academy of Management 
REFRESH-INTERVAL;VALUE=DURATION:PT1H
X-Robots-Tag:noindex
X-PUBLISHED-TTL:PT1H
BEGIN:VTIMEZONE
TZID:Europe/Vilnius
BEGIN:DAYLIGHT
TZOFFSETFROM:+0200
TZOFFSETTO:+0300
TZNAME:EEST
DTSTART:20250330T010000
END:DAYLIGHT
BEGIN:STANDARD
TZOFFSETFROM:+0300
TZOFFSETTO:+0200
TZNAME:EET
DTSTART:20251026T010000
END:STANDARD
BEGIN:DAYLIGHT
TZOFFSETFROM:+0200
TZOFFSETTO:+0300
TZNAME:EEST
DTSTART:20260329T010000
END:DAYLIGHT
BEGIN:STANDARD
TZOFFSETFROM:+0300
TZOFFSETTO:+0200
TZNAME:EET
DTSTART:20261025T010000
END:STANDARD
BEGIN:DAYLIGHT
TZOFFSETFROM:+0200
TZOFFSETTO:+0300
TZNAME:EEST
DTSTART:20270328T010000
END:DAYLIGHT
BEGIN:STANDARD
TZOFFSETFROM:+0300
TZOFFSETTO:+0200
TZNAME:EET
DTSTART:20271031T010000
END:STANDARD
END:VTIMEZONE
BEGIN:VTIMEZONE
TZID:America/Chicago
BEGIN:DAYLIGHT
TZOFFSETFROM:-0600
TZOFFSETTO:-0500
TZNAME:CDT
DTSTART:20250309T080000
END:DAYLIGHT
BEGIN:STANDARD
TZOFFSETFROM:-0500
TZOFFSETTO:-0600
TZNAME:CST
DTSTART:20251102T070000
END:STANDARD
BEGIN:DAYLIGHT
TZOFFSETFROM:-0600
TZOFFSETTO:-0500
TZNAME:CDT
DTSTART:20260308T080000
END:DAYLIGHT
BEGIN:STANDARD
TZOFFSETFROM:-0500
TZOFFSETTO:-0600
TZNAME:CST
DTSTART:20261101T070000
END:STANDARD
BEGIN:DAYLIGHT
TZOFFSETFROM:-0600
TZOFFSETTO:-0500
TZNAME:CDT
DTSTART:20270314T080000
END:DAYLIGHT
BEGIN:STANDARD
TZOFFSETFROM:-0500
TZOFFSETTO:-0600
TZNAME:CST
DTSTART:20271107T070000
END:STANDARD
END:VTIMEZONE
BEGIN:VTIMEZONE
TZID:UTC
BEGIN:STANDARD
TZOFFSETFROM:+0000
TZOFFSETTO:+0000
TZNAME:UTC
DTSTART:20250101T000000
END:STANDARD
END:VTIMEZONE
BEGIN:VTIMEZONE
TZID:Europe/Podgorica
BEGIN:DAYLIGHT
TZOFFSETFROM:+0100
TZOFFSETTO:+0200
TZNAME:CEST
DTSTART:20250330T010000
END:DAYLIGHT
BEGIN:STANDARD
TZOFFSETFROM:+0200
TZOFFSETTO:+0100
TZNAME:CET
DTSTART:20251026T010000
END:STANDARD
BEGIN:DAYLIGHT
TZOFFSETFROM:+0100
TZOFFSETTO:+0200
TZNAME:CEST
DTSTART:20260329T010000
END:DAYLIGHT
BEGIN:STANDARD
TZOFFSETFROM:+0200
TZOFFSETTO:+0100
TZNAME:CET
DTSTART:20261025T010000
END:STANDARD
BEGIN:DAYLIGHT
TZOFFSETFROM:+0100
TZOFFSETTO:+0200
TZNAME:CEST
DTSTART:20270328T010000
END:DAYLIGHT
BEGIN:STANDARD
TZOFFSETFROM:+0200
TZOFFSETTO:+0100
TZNAME:CET
DTSTART:20271031T010000
END:STANDARD
END:VTIMEZONE
BEGIN:VTIMEZONE
TZID:Europe/Helsinki
BEGIN:DAYLIGHT
TZOFFSETFROM:+0200
TZOFFSETTO:+0300
TZNAME:EEST
DTSTART:20250330T010000
END:DAYLIGHT
BEGIN:STANDARD
TZOFFSETFROM:+0300
TZOFFSETTO:+0200
TZNAME:EET
DTSTART:20251026T010000
END:STANDARD
BEGIN:DAYLIGHT
TZOFFSETFROM:+0200
TZOFFSETTO:+0300
TZNAME:EEST
DTSTART:20260329T010000
END:DAYLIGHT
BEGIN:STANDARD
TZOFFSETFROM:+0300
TZOFFSETTO:+0200
TZNAME:EET
DTSTART:20261025T010000
END:STANDARD
BEGIN:DAYLIGHT
TZOFFSETFROM:+0200
TZOFFSETTO:+0300
TZNAME:EEST
DTSTART:20270328T010000
END:DAYLIGHT
BEGIN:STANDARD
TZOFFSETFROM:+0300
TZOFFSETTO:+0200
TZNAME:EET
DTSTART:20271031T010000
END:STANDARD
END:VTIMEZONE
BEGIN:VEVENT
DTSTART;TZID=Europe/Vilnius:20260520T000000
DTEND;TZID=Europe/Vilnius:20260522T235959
DTSTAMP:20260420T052242
CREATED:20260106T135749Z
LAST-MODIFIED:20260419T161217Z
UID:10000001-1779235200-1779494399@www.aom.org
SUMMARY:CAP: 24th Annual Baltic Management Development Association (BMDA) Conference\, Lithuania
DESCRIPTION:For over two decades\, the BMDA Conference has brought together an inspiring community of business leaders\, academics\, researchers\, innovators\, and ecosystem builders. \n\n\n\nThe three-day conference will feature a rich mix of keynotes\, interactive discussions\, breakout sessions\, and site visits\, all designed to strengthen collaboration betweenbusiness and academia. \n\n\n\nParticipants will explore emerging trends\, share best practices\, and engage in inspiring conversations that spark new ideas\, partnerships\, and project opportunities. \n\n\n\nThe conference will conclude with a festive Gala Dinner\, celebrating the BMDA community\, honoring tradition\, and highlighting excellence through the BMDAAwards ceremony—a moment to recognize outstanding contributions and strengthen our shared sense of belonging. \n\n\n\nVisit the conference website for general information\, registration\, structure\, speaker information\, and more. \n\n\n\n\n24th Annual BMDA Conference website\n\n\n\n\nIT IS NOT JUST A CONFERENCE — IT’S A NETWORK AND A TRADITION
URL:https://www.aom.org/event/24th-annual-baltic-management-development-association-bmda-conference-lithuania/
LOCATION:Park Inn by Radisson Kaunas\, K. Donelaičio g. 27\, LT-44240\, Kaunas\, Lithuania
CATEGORIES:Community Accelerator Program (CAP) Events
ATTACH;FMTTYPE=image/png:https://www.aom.org/wp-content/uploads/2025/11/CAP-Logos_Blue-CAP-AOM-Logo-scaled.png
GEO:55.169438;23.881275
X-APPLE-STRUCTURED-LOCATION;VALUE=URI;X-ADDRESS=Park Inn by Radisson Kaunas K. Donelaičio g. 27 LT-44240 Kaunas Lithuania;X-APPLE-RADIUS=500;X-TITLE=K. Donelaičio g. 27\, LT-44240:geo:23.881275,55.169438
END:VEVENT
BEGIN:VEVENT
DTSTART;TZID=America/Chicago:20260522T000000
DTEND;TZID=America/Chicago:20260525T235959
DTSTAMP:20260420T052242
CREATED:20260415T201642Z
LAST-MODIFIED:20260419T170156Z
UID:10001817-1779408000-1779753599@www.aom.org
SUMMARY:CAP: ASAC 2026 Conference-Blue Sky Thinking
DESCRIPTION:The ASAC annual conference is the premier event for business academics in Canada to connect\, share insights\, and advance their fields. Bringing together participants from across Canada and beyond\, the conference fosters collaboration and innovation in business research and education. \n\n\n\nWith opportunities to present and develop research\, participate in workshops\, and engage in thought-provoking discussions\, ASAC’s conference is the cornerstone of our community’s efforts to inspire and be inspired. \n\n\n\nVisit the event website for additional information and to register. \n\n\n\n\nASAC Conference website
URL:https://www.aom.org/event/__trashed-3/
LOCATION:Mount Royal University\, 4825 Mt Royal Gate SW\, Calgary\, AB T3E 6K6\, Canada
CATEGORIES:Community Accelerator Program (CAP) Events
ATTACH;FMTTYPE=image/png:https://www.aom.org/wp-content/uploads/2026/03/ASAC_logo_4.2_rework-scaled.png
ORGANIZER;CN="ASAC":MAILTO:conference@asac.ca
GEO:51.0087826;-114.1340904
X-APPLE-STRUCTURED-LOCATION;VALUE=URI;X-ADDRESS=Mount Royal University 4825 Mt Royal Gate SW Calgary AB T3E 6K6 Canada;X-APPLE-RADIUS=500;X-TITLE=4825 Mt Royal Gate SW:geo:-114.1340904,51.0087826
END:VEVENT
BEGIN:VEVENT
DTSTART;TZID=UTC:20260528T000000
DTEND;TZID=UTC:20260529T235959
DTSTAMP:20260420T052242
CREATED:20260226T045734Z
LAST-MODIFIED:20260417T180414Z
UID:10000053-1779926400-1780099199@www.aom.org
SUMMARY:CAP: Silk Road Workshop\, Almaty\, Kazakhstan
DESCRIPTION:The Academy of Management’s Community Accelerator Program (CAP) is pleased to launch The Silk Road Initiative\, a new effort designed to foster deeper scholarly engagement with emerging academic communities along the historic Silk Road corridor. \n\n\n\nAbout the Workshop\n\n\n\nThis in-person\, two-day workshop will be held at Narkhoz University and KIMEP University\, bringing together editors from all Academy of Management journals along with scholars and doctoral students from across Central Asia. The workshop aims to serve as a platform for knowledge exchange\, capacity building\, and the elevation of management research from and about the region. \n\n\n\nWorkshop Program\n\n\n\n\n28 May (Afternoon) – Plenary Session at Narkhoz UniversityAn open plenary featuring editors from participating AOM journals. Local faculty and PhD students are warmly invited. This session will highlight the importance of research originating from emerging and developing economies—especially Central Asia—and its potential to advance management theory\, empirical scholarship\, education\, and practice. Editors will share insights on publishing in top-tier journals and engaging global audiences through context-rich research.\n\n\n\n29  May (Full Day) – Journal Roundtables & Joint Plenary Q&A at KIMEP UniversityEach AOM journal will host an interactive roundtable discussion offering guidance on research development\, manuscript preparation\, and navigating the review process. The program will open and/or conclude with a joint plenary Q&A\, bringing together editors\, scholars\, and participants for shared reflection\, dialogue\, and community building.\n\n\n\n\nWe warmly welcome others who wish to get involved. If you are interested\, please reach out to CAP@aom.org. You can also find more information about AOM-CAP here.
URL:https://www.aom.org/event/cap-silk-road-workshop-almaty-kazakhstan/
LOCATION:Narxoz University\, Sain St 81\, Almaty\, Kazakhstan
CATEGORIES:Community Accelerator Program (CAP) Events
ATTACH;FMTTYPE=image/png:https://www.aom.org/wp-content/uploads/2025/11/CAP-Logos_Blue-CAP-AOM-Logo-scaled.png
GEO:43.2276248;76.8447708
X-APPLE-STRUCTURED-LOCATION;VALUE=URI;X-ADDRESS=Narxoz University Sain St 81 Almaty Kazakhstan;X-APPLE-RADIUS=500;X-TITLE=Sain St 81:geo:76.8447708,43.2276248
END:VEVENT
BEGIN:VEVENT
DTSTART;TZID=Europe/Podgorica:20260603T000000
DTEND;TZID=Europe/Podgorica:20260606T235959
DTSTAMP:20260420T052242
CREATED:20260226T045737Z
LAST-MODIFIED:20260417T180229Z
UID:10000058-1780444800-1780790399@www.aom.org
SUMMARY:CAP: 8th International Conference on Management and Organization (ICMO 2026)\, Pržno\, Montenegro
DESCRIPTION:ICMO 2026: Sustainability by Design – Rethinking Strategy\, People & Digital Futures\n\n\n\nThe Montenegrin Academy of Management (MAOM)\, together with the Slovenian Academy of Management (SAM)\, the Croatian Academy of Management (CroAM)\, and the Faculty of Economics Podgorica\, University of Montenegro\, announces the 8th International Conference on Management and Organization (ICMO 2026): Sustainability by Design – Rethinking Strategy\, People & Digital Futures. \n\n\n\nTaking place on 3-6 June 2026 at the seaside Hotel Maestral Resort\, Pržno (near Sveti Stefan and a short drive from Kotor)\, Montenegro\, the conference explores how sustainability can be intentionally embedded into strategic decision-making\, human-centered work design\, and digital transformation. Supported by the Academy of Management\, ICMO 2026 will feature AOM community sessions\, research workshops\, a doctoral colloquium\, practitioner engagement\, and multiple opportunities for networking and collaboration. \n\n\n\nResearchers and practitioners are invited to submit extended abstracts or full papers addressing sustainability-related challenges across strategy\, people\, digital futures\, governance\, innovation\, and organizational design. \n\n\n\nMore details are available on MAOM.org and on the MAOM LinkedIn page.
URL:https://www.aom.org/event/cap-8th-international-conference-on-management-and-organization-icmo-2026-przno-montenegro/
LOCATION:Hotel Maestral\, Sveti Stefan\, Pržno\, 85315\, Montenegro
CATEGORIES:Community Accelerator Program (CAP) Events
ATTACH;FMTTYPE=image/png:https://www.aom.org/wp-content/uploads/2025/11/CAP-Logos_Blue-CAP-AOM-Logo-scaled.png
ORGANIZER;CN="MAOM - Montenegrin Academy of Management":MAILTO:info@maom.org
GEO:42.2578742;18.893266
X-APPLE-STRUCTURED-LOCATION;VALUE=URI;X-ADDRESS=Hotel Maestral Sveti Stefan Pržno 85315 Montenegro;X-APPLE-RADIUS=500;X-TITLE=Sveti Stefan:geo:18.893266,42.2578742
END:VEVENT
BEGIN:VEVENT
DTSTART;TZID=Europe/Helsinki:20260610T000000
DTEND;TZID=Europe/Helsinki:20260612T235959
DTSTAMP:20260420T052242
CREATED:20260408T193454Z
LAST-MODIFIED:20260419T162006Z
UID:10001816-1781049600-1781308799@www.aom.org
SUMMARY:CAP: 20th International Symposium on Organizational Sciences-SymOrg 2026
DESCRIPTION:Submission deadline: 15 April 2026Early-bird registration deadline: 15 May 2026Registration deadline: 5 June 2026 \n\n\n\n\n\n\n\n\n\nSince 1989\, the Faculty of Organizational Sciences has maintained a rich tradition of hosting the SymOrg symposium aimed at advancing the fields of management and informatics in both theory and practice. SymOrg 2026 focuses on how organizations can develop resilience and intelligence to navigate continuous change and uncertainty. We aim to explore strategies\, technologies\, and practices that enable organizations to thrive amid disruption and drive sustainable transformation across industries\, economies\, and societies. SymOrg 2026 will include both scientific sessions and business-oriented events\, such as forums\, panel discussions\, round tables\, and a student startup event\, focusing on contemporary issues relevant to managing organizations in times of permanent disruptions. \n\n\n\nRegister and attend sessions from AOM leaders including: \n\n\n\n\nTammy L. Madsen\, President\n\n\n\nMichael L. Barnett\, Editor-in-Chief\, Academy of Management Perspectives (AMP)\n\n\n\nDiego Coraiola\, Incoming Editor and Chief\, Academy of Management Learning & Education (AMLE)\n\n\n\nMark C. Bolino\, Associate Editor\, Academy of Management Review (AMR)
URL:https://www.aom.org/event/cap-symorg-2026/
LOCATION:Grand Hotel Kopaonik\, 7RM6+VV\, Kopaonik\, 36354\, Serbia
CATEGORIES:Community Accelerator Program (CAP) Events
ATTACH;FMTTYPE=image/png:https://www.aom.org/wp-content/uploads/2026/03/IG-Post-4_5.png
ORGANIZER;CN="University of Belgrade - Faculty of Organisational Sciences":MAILTO:dekanat@fon.bg.ac.rs
GEO:43.2846875;20.8121875
X-APPLE-STRUCTURED-LOCATION;VALUE=URI;X-ADDRESS=Grand Hotel Kopaonik 7RM6+VV Kopaonik 36354 Serbia;X-APPLE-RADIUS=500;X-TITLE=7RM6+VV:geo:20.8121875,43.2846875
END:VEVENT
END:VCALENDAR